

BEGIN:VCALENDAR
VERSION:2.0
PRODID:-//Neige et Montagne - ECPv6.14.2//NONSGML v1.0//EN
CALSCALE:GREGORIAN
METHOD:PUBLISH
X-WR-CALNAME:Neige et Montagne
X-ORIGINAL-URL:https://nm.cabnamlux.be
X-WR-CALDESC:Events for Neige et Montagne
REFRESH-INTERVAL;VALUE=DURATION:PT1H
X-Robots-Tag:noindex
X-PUBLISHED-TTL:PT1H
BEGIN:VTIMEZONE
TZID:Europe/Brussels
BEGIN:DAYLIGHT
TZOFFSETFROM:+0100
TZOFFSETTO:+0200
TZNAME:CEST
DTSTART:20170326T010000
END:DAYLIGHT
BEGIN:STANDARD
TZOFFSETFROM:+0200
TZOFFSETTO:+0100
TZNAME:CET
DTSTART:20171029T010000
END:STANDARD
BEGIN:DAYLIGHT
TZOFFSETFROM:+0100
TZOFFSETTO:+0200
TZNAME:CEST
DTSTART:20180325T010000
END:DAYLIGHT
BEGIN:STANDARD
TZOFFSETFROM:+0200
TZOFFSETTO:+0100
TZNAME:CET
DTSTART:20181028T010000
END:STANDARD
END:VTIMEZONE
BEGIN:VEVENT
DTSTART;TZID=Europe/Brussels:20180203T070000
DTEND;TZID=Europe/Brussels:20180205T233000
DTSTAMP:20260426T044936
CREATED:20171029T074337Z
LAST-MODIFIED:20171121T060827Z
UID:612-1517641200-1517873400@nm.cabnamlux.be
SUMMARY:Ski freeride dans le Val d’Hérens   ( sortie complète)
DESCRIPTION: 3 4 5  février par Luc Bontemps \nSki freeride dans le Val d’Hérens  loin des usines à ski \nCamp de base à Evolène et choix des pentes en fonction de la neige\, dans la vallée ou à portée de voiture. \nLe principe : recherche des spots vierges et tentants. D’abord les remontées\, on termine si nécessaire par un petit coup de peau. \nBon niveau de ski demandé. Max 6 personnes \nCompter 125 CHF /j pour l’encadrement par un pro de la vallée + remontées mécaniques selon le lieu. \nLogement compris dans l’encadrement\, mais pas les repas. \nConvivialité garantie. \nLuc : luc.bontemps@skynet.be
URL:https://nm.cabnamlux.be/activite/ski-freeride-dans-le-val-dherens/
END:VEVENT
BEGIN:VEVENT
DTSTART;VALUE=DATE:20180202
DTEND;VALUE=DATE:20180211
DTSTAMP:20260426T044936
CREATED:20171106T155426Z
LAST-MODIFIED:20171106T155451Z
UID:693-1517536800-1518227999@nm.cabnamlux.be
SUMMARY:Une semaine en Albanie
DESCRIPTION:Avec un guide français installé en Suède qui propose des semaines de ski de randonnée dans le nord de la Norvège et de la Suède. \nJe suis déjà parti avec lui dans le Finnmarrk pour skier dans les fjords novégiens et j’ai fait la haute route du Kebnekaise en Suède. C’est un gars super et ses voyages sont très bien organisés. \nCette année il propose pour la première fois aussi une semaine en Albanie. Il y a encore 3 places disponibles. Plus de détails ici : https://www.upguides.com/fr/trips/ski-rando-exploration-albania. Il y a aussi d’autres possiblités que vous pouvez découvrir sur son site. \nAlors si vous êtes à la recherche d’un bon plan et beaucoup de poudreuse … n’hésitez pas! \nJean Tafforeau 081/ 47 05 07 \njean.tafforeau@skynet.be
URL:https://nm.cabnamlux.be/activite/une-semaine-en-albanie/
LOCATION:Albanie\, Albania
END:VEVENT
BEGIN:VEVENT
DTSTART;TZID=Europe/Brussels:20180126T160000
DTEND;TZID=Europe/Brussels:20180129T233000
DTSTAMP:20260426T044936
CREATED:20171029T074041Z
LAST-MODIFIED:20171121T060848Z
UID:609-1516982400-1517268600@nm.cabnamlux.be
SUMMARY:Binntal                                (  Sortie complète)
DESCRIPTION: Sortie dans le Binntal organisée par Marc Lambert et Serge Debacker  les 27\,28\,29 janvier 2018 \n6 à 8 pers max \nDépart le vendredi\, roulons jusque Binn \, et bivouac \n(ou je dois encore chercher un hôtel….) \n3 jours en étoile autour du Binntalhütte\, non gardé \nSamedi : montée refuge\, reconnaissance  Albrunpass\, 900m \nDimanche : Hohsandhorn + ski dans les pentens du hohsandgletscher + Ofenhorn \, retour possible par face sud et Eggerscharte \, 1900 \nLundi : Albrunpass\, Passo del usset\, Grampielpass\, retour voiture Fäld\, 1100m \nMarc  Lambert \nm : +32 478 21 19 24           ml@biobalance.be
URL:https://nm.cabnamlux.be/activite/binntal/
LOCATION:Binntal
END:VEVENT
BEGIN:VEVENT
DTSTART;TZID=Europe/Brussels:20180120T080000
DTEND;TZID=Europe/Brussels:20180325T170000
DTSTAMP:20260426T044936
CREATED:20171031T063354Z
LAST-MODIFIED:20171031T063357Z
UID:648-1516435200-1521997200@nm.cabnamlux.be
SUMMARY:Les Gets
DESCRIPTION:Propositions de Alain De Wilde    janvier\, février mars \,avril\n\nVoici ce que j’aimerais que l’on mette en place afin de pouvoir exercer ensemble notre passion du ski rando. \nPour ceux qui désirent s’exercer\, avant d’aborder des treks de ski-rando plus dur\, venez le weekend\, avec moi a la station Les Gets-Morzine. Là\, il y en a pour tous les niveaux ; pour ceux qui le veulent\, le weekend le télé-siège est à 55 euro \,cela permet de bien profiter de tous les parcours dans la haute neige \n décision définitive environ 1 semaine avant le départ.   \n   -qualité et quantité de neige correcte (consultation des webcams)   bonne météo \n                     Alain :       alaindw@scarlet.be
URL:https://nm.cabnamlux.be/activite/les-gets/
LOCATION:Morzine\, France
END:VEVENT
BEGIN:VEVENT
DTSTART;VALUE=DATE:20180105
DTEND;VALUE=DATE:20180306
DTSTAMP:20260426T044936
CREATED:20171028T112941Z
LAST-MODIFIED:20171120T141252Z
UID:603-1515117600-1520215199@nm.cabnamlux.be
SUMMARY:Le mont Ventoux à ski        (                      Sortie complète)
DESCRIPTION:Philippe Resteau vous propose cet hiver    un incertain WE de ski de rando au Ventoux.\n\n  \n« Et pourquoi pas le Ventoux à une date incertaine en janvier ou février? Skier dans une poudreuse de rêve avec la plaine du Rhône sous ses pieds entourés d’arbres fantômes. Un rêve incertain! \nEn 2015 les conditions étaient au rendez-vous mais elles ne se répètent pas tous les ans et c’est pourquoi je propose à 7 d’entre-vous que cela intéresse simplement de me le faire savoir. \nSi\, en janvier ou février\,  la neige et la météo sont au rendez-vous\, je vous contacte  en début de semaine pour le TOP départ du vendredi et vous me confirmez ou non votre participation. \nPas de frais particuliers sauf le trajet et la nourriture car je vous héberge bien volontiers chez moi à Beaumes de Venise. \nPhilippe \nphilippe.resteau@skynet.be \n0495 34 25 11
URL:https://nm.cabnamlux.be/activite/mont-ventoux/
LOCATION:Mont Ventoux Provence
END:VEVENT
BEGIN:VEVENT
DTSTART;VALUE=DATE:20171215
DTEND;VALUE=DATE:20171219
DTSTAMP:20260426T044936
CREATED:20171019T054630Z
LAST-MODIFIED:20171205T062322Z
UID:581-1513303200-1513562399@nm.cabnamlux.be
SUMMARY:WE Vosges  16 17 décembre il reste quelques places
DESCRIPTION:Au refuge SHM au pied du Hohneck  organisé par Albert Soudan en collaboration avec Marc VdH . \n  \nNous avons réservé cette fois un magnifique chalet en contrebas de la route des crêtes un peu avant le Hohneck. \nVoir site : SHM Hohneck. \nArrivée au refuge le vendredi fin d’après-midi ou le samedi matin .  \nRefuge non gardé signifie que nous allons nous organiser nous même pour les repas … \n We traditionnel de début de saison avec activités diverses suivant la météo\, l’enneigement et les gouts de chacun : \n ski de piste à 1 km                                               ski de rando sur les crêtes                                  ski de rando nordique \n rando à pied    ou en  raquettes  \nescalade à la Martinswand ou aux Spitzkopfe      etc…. \nNombre max de participants : 14 \nRéservation par mail à Albert et versement de l’acompte de 30€ par participant pour confirmer  (représentant le prix des 2 nuitées et que nous avons versé pour la réservation du refuge).  \n  \nAlbert Soudan   :    soudan.moinet@scarlet.be \nD’autres détails arriveront bientôt \nOrganisateur: Albert Soudan \nNombre de places: 14
URL:https://nm.cabnamlux.be/activite/we-vosges/
LOCATION:Hohneck\, Vosges\, France
CATEGORIES:2017-2018
END:VEVENT
BEGIN:VEVENT
DTSTART;TZID=Europe/Brussels:20171203T100000
DTEND;TZID=Europe/Brussels:20171203T170000
DTSTAMP:20260426T044936
CREATED:20171019T045523Z
LAST-MODIFIED:20171201T084413Z
UID:569-1512295200-1512320400@nm.cabnamlux.be
SUMMARY:Dimanche 3  décembre  après-midi de rappel sécurité à Beez
DESCRIPTION:Votre sécurité dépend de l’aptitude des autres et vice versa. \nC’est le principe de fonctionnement du groupe. \n  \nUn après-midi pour se remettre dans l’ambiance et se retrouver tous ensemble. Petits ateliers théoriques et pratiques de manipulation de l’ARVA et une initiation à la compréhension de la nivologie. \nTout le monde est le bienvenu. Veillez à amener votre ARVA en état de marche ou nous signaler si vous n’en n’avez pas. Le club alpin dispose de quelques appareils en prêt pour l’après-midi.  Nous ferons aussi un atelier de mouflage \, pensez à prendre votre baudrier et matériel de glacier ( teebloc\, mousquetons \, etc… ) \n  \n RV à 13h30   rappel sécurité   DVA \, mouflages \nAmenez aussi de quoi faire un petit gouter (thé\, café ou  bières + gâteaux etc..) pour le débriefing de fin de séance  aux environs de 16 h 30. \nRendez-vous sur le parking de Beez (face aux rochers).  \n 
URL:https://nm.cabnamlux.be/activite/apres-midi-securite-a-beez/
LOCATION:Beez\, Avenue Reine Elisabeth\, Beez\, 5000\, Belgium
CATEGORIES:2017-2018
END:VEVENT
BEGIN:VEVENT
DTSTART;TZID=Europe/Brussels:20171013T193000
DTEND;TZID=Europe/Brussels:20171013T230000
DTSTAMP:20260426T044936
CREATED:20171010T075346Z
LAST-MODIFIED:20171019T050526Z
UID:547-1507923000-1507935600@nm.cabnamlux.be
SUMMARY:Nouvelle saison
DESCRIPTION:La 1ère réunion de planification est prévue pour vendredi 13 octobre. \nIl y aura des nouveautés. \nD’ores et déjà \, la traditionnelle sortie Vosges de décembre est sur les rails ainsi que la fameuse semaine de free ride Monterosa. \n  \nA bientôt  \n  \nL’équipe N et M 
URL:https://nm.cabnamlux.be/activite/nouvelle-saison-2/
LOCATION:Planification du programme 2017 2018\, Waterloo
CATEGORIES:2017-2018
ATTACH;FMTTYPE=image/jpeg:https://nm.cabnamlux.be/wp-content/uploads/2017/10/dervio-126.jpg
END:VEVENT
BEGIN:VEVENT
DTSTART;TZID=Europe/Brussels:20170901T080000
DTEND;TZID=Europe/Brussels:20171008T170000
DTSTAMP:20260426T044936
CREATED:20170504T162613Z
LAST-MODIFIED:20171019T050425Z
UID:241-1504252800-1507482000@nm.cabnamlux.be
SUMMARY:La saison est terminée . Rendez-vous en novembre pour la suite
DESCRIPTION:En attendant…
URL:https://nm.cabnamlux.be/activite/la-saison-est-terminee-rendez-vous-en-novembre-pour-la-suite/
CATEGORIES:2016-2017
ATTACH;FMTTYPE=image/jpeg:https://nm.cabnamlux.be/wp-content/uploads/2017/05/P4216895.jpg
END:VEVENT
BEGIN:VEVENT
DTSTART;VALUE=DATE:20170429
DTEND;VALUE=DATE:20170430
DTSTAMP:20260426T044936
CREATED:20170405T200535Z
LAST-MODIFIED:20171019T050414Z
UID:151-1493431200-1493463600@nm.cabnamlux.be
SUMMARY:Alphubel
DESCRIPTION:Sortie ouverte à 8 personnes\, ayant une expérience de la haute montagne\, capable de diriger une cordée et de faire le dénivelé du dernier jour dans la bonne humeur. \n28/4: départ de Belgique pour la vallée de Saas.\n29/4: montée à Britanniahütte.\n30/4: traversée Britanniahütte – Täschhütte avec 3 options de sommets : Fluchthorn (le + facile)\, Strahlhorn (a priori skiable jusqu’au sommet)\, Rimpfischhorn (partie finale en alpinisme).\n1/5: Alphubel (D+ 1500m) et descente dans la vallée de Saas. \nOrganisateur: Roland Leners\nNb max: 8\nInscrits: Roland Leners\, Katrin Karlsson\,Marc Delmée\, Florent Martin\, Isabelle Denis\, Marc Vanden Haute\, Axel Linden\, Christiane Blaise\nRéservistes: 
URL:https://nm.cabnamlux.be/activite/alphubel/
CATEGORIES:2016-2017
END:VEVENT
BEGIN:VEVENT
DTSTART;VALUE=DATE:20170422
DTEND;VALUE=DATE:20170425
DTSTAMP:20260426T044936
CREATED:20170405T193747Z
LAST-MODIFIED:20171019T050434Z
UID:144-1492826400-1493078399@nm.cabnamlux.be
SUMMARY:Raid 3 jours dans le Valais
DESCRIPTION:(reporté depuis le 31 mars) \nEncore une belle région sauvage du Valais à découvrir\, autour du lac des Dix\, entre Val d’Herens et val de Bagne\, un super bivouac igloo des Pantalons Blancs (non gardé)\, vue imprenable sur les Combins\, le Mont Blanc \nJour 1 (1.700D+\, 7h)\nde Pralong 1.600m (au dessus d’Héremence) montée au refuge-bivouac des Pantalons Blancs 3.280m  (1.700D+\, 7h)\nPointe des Chamois \nJour 2 (1.000 D+\, 1.400D-)\nPointe du Vasevay (3.356  – 100D+)\nCol du Vasevay (3.235  – 100 D-)\nOption : La Sâle A-R (3.646)\nPas du chat (2.385 –  850D-)\nCol des Ignes (3.182 – 800D+)\n– Soit descente vers Lac Bleu(2.100)\n– Soit traversée directe vers cabane\nCabane aiguilles rouges (2.844) \nJour 3 (650D+\, 1.880D-)\nPointe de Vouasson (3.490  –  650D+)\nDescente vers Pralong ( 1.880D-) \n  \nOrganisateur: Benoît Henry\nNb max: 6p.\nInscrits: Benoit Henry\, Cyprien Vogels\, Philippe Dauby\, Pierre Gramme\, Serge Debacker\, Axel Linden\nRéservistes: Bruno Frackowiak\, Didier Coheur
URL:https://nm.cabnamlux.be/activite/raid-3-jours-dans-le-valais/
CATEGORIES:2016-2017
ORGANIZER;CN="Beno%C3%AEt":MAILTO:benoit.henry@woodnd.be
END:VEVENT
BEGIN:VEVENT
DTSTART;VALUE=DATE:20170415
DTEND;VALUE=DATE:20170418
DTSTAMP:20260426T044936
CREATED:20170405T185943Z
LAST-MODIFIED:20171019T050440Z
UID:140-1492221600-1492473599@nm.cabnamlux.be
SUMMARY:Autour du Piz Tödi
DESCRIPTION:3 ou 4 jours en étoiles PD+\, AD -\, BSA (arêtes finales) \nOrganisateur: Katrin\nNb max: 8p.\nInscrits: Katrin Karlsson\, Michel Heusschen\, Isabelle Denis\, Marc Vanden Haute\, Didier Wolf\, Tanguy Despirlet\, Philippe Dauby\, Berto Zappala\nRéservistes: Florent Martin\, Didier Coheur\, Olivier Desloovere
URL:https://nm.cabnamlux.be/activite/autour-du-piz-todi/
CATEGORIES:2016-2017
END:VEVENT
BEGIN:VEVENT
DTSTART;VALUE=DATE:20170318
DTEND;VALUE=DATE:20170326
DTSTAMP:20260426T044936
CREATED:20170405T201311Z
LAST-MODIFIED:20171019T050447Z
UID:154-1489802400-1490486399@nm.cabnamlux.be
SUMMARY:Monterosa freeride
DESCRIPTION:Séjour en montagne\, sorties en étoile\, aussi pour les skieurs purs pistes. \nLieu: Monterosa Freeride Paradise\, comprenant les vallées de Champoluc\, de Gressoney\, d’Alagna\, de Zermatt*\, ainsi que le massif du Mt Rose avec ses nombreux 4 000 m accessibles à  ski.\nHébergement: Refuge Gabiet à 2 375 m d’altitude\, accès en télécabine\, dépaysement garanti. Accueil et cuisine valdotaine\, demi-pension 52 €/jour. \nActivités:\nSki de piste – domaine skiable très varié\, étendu sur 3 vallées.\nSki hors-piste – un\, si pas le plus beau spot de freeride des Alpes. Domaine hors-piste accessible par les remontées mécaniques\, sans – ou avec peu de montées (100 à 400 m)\, offrant sur chaque vallée des belles descentes de 1000 à 1500m de dénivelée complètement en dehors du domaine skiable\nRando à ski : les 4 000 m à ski relativement faciles\, à faire dans la journée au départ d’Indren. Montées 600 à 1 200 m\, descentes de plus de 2 000 m (Pyramide Vincent\, Punta Giordani\, Col du Lys…)\nSorties de deux jours : les 4 000 au départ des refuges (Mantova-Gnifetti\, Marguerita\, Quintino Sella)\, descentes vers Gressoney ou vers Zermatt (*retour par les remontées mécaniques et les hors-piste reliant plusieurs vallées). \nAmbiance: terrain Haute Montagne\nInscriptions: avant le 10 décembre\, le refuge est très prisé. \nOrganisateurs: Daria Jezierska\, Didier Wolf\nNb max: jusqu’à 14\, en chambres de 4 ou 2 lits selon disponibilités\nInscrits: Daria Jezierska\, Didier Wolf\, Sacha Nelki\, Isabelle Denis\, Laurent Toisoul\, Marc Vanden Haute\, Françoise Bosschaert\, Luc Bontemps\, Thierry Lavenne\, Philippe Resteau\, Thiery Disneur\, Eve Tondeur\, Florent Martin\nRéservistes:
URL:https://nm.cabnamlux.be/activite/monterosa-freeride/
CATEGORIES:2016-2017
ORGANIZER;CN="Daria":MAILTO:daria.jezierska@skynet.be
END:VEVENT
END:VCALENDAR