

BEGIN:VCALENDAR
VERSION:2.0
PRODID:-//Neige et Montagne - ECPv6.14.2//NONSGML v1.0//EN
CALSCALE:GREGORIAN
METHOD:PUBLISH
X-WR-CALNAME:Neige et Montagne
X-ORIGINAL-URL:https://nm.cabnamlux.be
X-WR-CALDESC:Events for Neige et Montagne
REFRESH-INTERVAL;VALUE=DURATION:PT1H
X-Robots-Tag:noindex
X-PUBLISHED-TTL:PT1H
BEGIN:VTIMEZONE
TZID:Europe/Brussels
BEGIN:DAYLIGHT
TZOFFSETFROM:+0100
TZOFFSETTO:+0200
TZNAME:CEST
DTSTART:20170326T010000
END:DAYLIGHT
BEGIN:STANDARD
TZOFFSETFROM:+0200
TZOFFSETTO:+0100
TZNAME:CET
DTSTART:20171029T010000
END:STANDARD
END:VTIMEZONE
BEGIN:VEVENT
DTSTART;TZID=Europe/Brussels:20170901T080000
DTEND;TZID=Europe/Brussels:20171008T170000
DTSTAMP:20260426T002149
CREATED:20170504T162613Z
LAST-MODIFIED:20171019T050425Z
UID:241-1504252800-1507482000@nm.cabnamlux.be
SUMMARY:La saison est terminée . Rendez-vous en novembre pour la suite
DESCRIPTION:En attendant…
URL:https://nm.cabnamlux.be/activite/la-saison-est-terminee-rendez-vous-en-novembre-pour-la-suite/
CATEGORIES:2016-2017
ATTACH;FMTTYPE=image/jpeg:https://nm.cabnamlux.be/wp-content/uploads/2017/05/P4216895.jpg
END:VEVENT
BEGIN:VEVENT
DTSTART;VALUE=DATE:20170429
DTEND;VALUE=DATE:20170430
DTSTAMP:20260426T002149
CREATED:20170405T200535Z
LAST-MODIFIED:20171019T050414Z
UID:151-1493431200-1493463600@nm.cabnamlux.be
SUMMARY:Alphubel
DESCRIPTION:Sortie ouverte à 8 personnes\, ayant une expérience de la haute montagne\, capable de diriger une cordée et de faire le dénivelé du dernier jour dans la bonne humeur. \n28/4: départ de Belgique pour la vallée de Saas.\n29/4: montée à Britanniahütte.\n30/4: traversée Britanniahütte – Täschhütte avec 3 options de sommets : Fluchthorn (le + facile)\, Strahlhorn (a priori skiable jusqu’au sommet)\, Rimpfischhorn (partie finale en alpinisme).\n1/5: Alphubel (D+ 1500m) et descente dans la vallée de Saas. \nOrganisateur: Roland Leners\nNb max: 8\nInscrits: Roland Leners\, Katrin Karlsson\,Marc Delmée\, Florent Martin\, Isabelle Denis\, Marc Vanden Haute\, Axel Linden\, Christiane Blaise\nRéservistes: 
URL:https://nm.cabnamlux.be/activite/alphubel/
CATEGORIES:2016-2017
END:VEVENT
BEGIN:VEVENT
DTSTART;VALUE=DATE:20170422
DTEND;VALUE=DATE:20170425
DTSTAMP:20260426T002149
CREATED:20170405T193747Z
LAST-MODIFIED:20171019T050434Z
UID:144-1492826400-1493078399@nm.cabnamlux.be
SUMMARY:Raid 3 jours dans le Valais
DESCRIPTION:(reporté depuis le 31 mars) \nEncore une belle région sauvage du Valais à découvrir\, autour du lac des Dix\, entre Val d’Herens et val de Bagne\, un super bivouac igloo des Pantalons Blancs (non gardé)\, vue imprenable sur les Combins\, le Mont Blanc \nJour 1 (1.700D+\, 7h)\nde Pralong 1.600m (au dessus d’Héremence) montée au refuge-bivouac des Pantalons Blancs 3.280m  (1.700D+\, 7h)\nPointe des Chamois \nJour 2 (1.000 D+\, 1.400D-)\nPointe du Vasevay (3.356  – 100D+)\nCol du Vasevay (3.235  – 100 D-)\nOption : La Sâle A-R (3.646)\nPas du chat (2.385 –  850D-)\nCol des Ignes (3.182 – 800D+)\n– Soit descente vers Lac Bleu(2.100)\n– Soit traversée directe vers cabane\nCabane aiguilles rouges (2.844) \nJour 3 (650D+\, 1.880D-)\nPointe de Vouasson (3.490  –  650D+)\nDescente vers Pralong ( 1.880D-) \n  \nOrganisateur: Benoît Henry\nNb max: 6p.\nInscrits: Benoit Henry\, Cyprien Vogels\, Philippe Dauby\, Pierre Gramme\, Serge Debacker\, Axel Linden\nRéservistes: Bruno Frackowiak\, Didier Coheur
URL:https://nm.cabnamlux.be/activite/raid-3-jours-dans-le-valais/
CATEGORIES:2016-2017
ORGANIZER;CN="Beno%C3%AEt":MAILTO:benoit.henry@woodnd.be
END:VEVENT
BEGIN:VEVENT
DTSTART;VALUE=DATE:20170415
DTEND;VALUE=DATE:20170418
DTSTAMP:20260426T002149
CREATED:20170405T185943Z
LAST-MODIFIED:20171019T050440Z
UID:140-1492221600-1492473599@nm.cabnamlux.be
SUMMARY:Autour du Piz Tödi
DESCRIPTION:3 ou 4 jours en étoiles PD+\, AD -\, BSA (arêtes finales) \nOrganisateur: Katrin\nNb max: 8p.\nInscrits: Katrin Karlsson\, Michel Heusschen\, Isabelle Denis\, Marc Vanden Haute\, Didier Wolf\, Tanguy Despirlet\, Philippe Dauby\, Berto Zappala\nRéservistes: Florent Martin\, Didier Coheur\, Olivier Desloovere
URL:https://nm.cabnamlux.be/activite/autour-du-piz-todi/
CATEGORIES:2016-2017
END:VEVENT
BEGIN:VEVENT
DTSTART;VALUE=DATE:20170318
DTEND;VALUE=DATE:20170326
DTSTAMP:20260426T002149
CREATED:20170405T201311Z
LAST-MODIFIED:20171019T050447Z
UID:154-1489802400-1490486399@nm.cabnamlux.be
SUMMARY:Monterosa freeride
DESCRIPTION:Séjour en montagne\, sorties en étoile\, aussi pour les skieurs purs pistes. \nLieu: Monterosa Freeride Paradise\, comprenant les vallées de Champoluc\, de Gressoney\, d’Alagna\, de Zermatt*\, ainsi que le massif du Mt Rose avec ses nombreux 4 000 m accessibles à  ski.\nHébergement: Refuge Gabiet à 2 375 m d’altitude\, accès en télécabine\, dépaysement garanti. Accueil et cuisine valdotaine\, demi-pension 52 €/jour. \nActivités:\nSki de piste – domaine skiable très varié\, étendu sur 3 vallées.\nSki hors-piste – un\, si pas le plus beau spot de freeride des Alpes. Domaine hors-piste accessible par les remontées mécaniques\, sans – ou avec peu de montées (100 à 400 m)\, offrant sur chaque vallée des belles descentes de 1000 à 1500m de dénivelée complètement en dehors du domaine skiable\nRando à ski : les 4 000 m à ski relativement faciles\, à faire dans la journée au départ d’Indren. Montées 600 à 1 200 m\, descentes de plus de 2 000 m (Pyramide Vincent\, Punta Giordani\, Col du Lys…)\nSorties de deux jours : les 4 000 au départ des refuges (Mantova-Gnifetti\, Marguerita\, Quintino Sella)\, descentes vers Gressoney ou vers Zermatt (*retour par les remontées mécaniques et les hors-piste reliant plusieurs vallées). \nAmbiance: terrain Haute Montagne\nInscriptions: avant le 10 décembre\, le refuge est très prisé. \nOrganisateurs: Daria Jezierska\, Didier Wolf\nNb max: jusqu’à 14\, en chambres de 4 ou 2 lits selon disponibilités\nInscrits: Daria Jezierska\, Didier Wolf\, Sacha Nelki\, Isabelle Denis\, Laurent Toisoul\, Marc Vanden Haute\, Françoise Bosschaert\, Luc Bontemps\, Thierry Lavenne\, Philippe Resteau\, Thiery Disneur\, Eve Tondeur\, Florent Martin\nRéservistes:
URL:https://nm.cabnamlux.be/activite/monterosa-freeride/
CATEGORIES:2016-2017
ORGANIZER;CN="Daria":MAILTO:daria.jezierska@skynet.be
END:VEVENT
END:VCALENDAR