BEGIN:VCALENDAR
VERSION:2.0
PRODID:-//Neige et Montagne - ECPv6.14.2//NONSGML v1.0//EN
CALSCALE:GREGORIAN
METHOD:PUBLISH
X-ORIGINAL-URL:https://nm.cabnamlux.be
X-WR-CALDESC:Events for Neige et Montagne
REFRESH-INTERVAL;VALUE=DURATION:PT1H
X-Robots-Tag:noindex
X-PUBLISHED-TTL:PT1H
BEGIN:VTIMEZONE
TZID:Europe/Brussels
BEGIN:DAYLIGHT
TZOFFSETFROM:+0100
TZOFFSETTO:+0200
TZNAME:CEST
DTSTART:20250330T010000
END:DAYLIGHT
BEGIN:STANDARD
TZOFFSETFROM:+0200
TZOFFSETTO:+0100
TZNAME:CET
DTSTART:20251026T010000
END:STANDARD
END:VTIMEZONE
BEGIN:VEVENT
DTSTART;VALUE=DATE:20250117
DTEND;VALUE=DATE:20250124
DTSTAMP:20260425T171318
CREATED:20241117T105626Z
LAST-MODIFIED:20241221T081543Z
UID:2924-1737079200-1737597599@nm.cabnamlux.be
SUMMARY:Les Gets : du 17 au 22 janvier  5 jours aux portes du soleil
DESCRIPTION:Proposition de Alain De Wilde \nEn début de saison\, un long week-end pour se remettre en forme. Mélange de ski de piste et ski rando (et raquette pour les non-skieur) ; aussi bien pour les initiés que les non-initiés\, le tout dans \n l’excellente ambiance d’une pension locale. \n Alain \nAlain de Wilde   alaindw@scarlet.be \n  \n 
URL:https://nm.cabnamlux.be/activite/les-gets-date-a-definir-en-janvier-4-jours-aux-portes-du-soleil/
END:VEVENT
BEGIN:VEVENT
DTSTART;VALUE=DATE:20250124
DTEND;VALUE=DATE:20250128
DTSTAMP:20260425T171318
CREATED:20241113T180507Z
LAST-MODIFIED:20241113T180629Z
UID:2889-1737684000-1737943199@nm.cabnamlux.be
SUMMARY:Du 24 (soir) au 26 janvier Skating au Lispach par catherine Kessels
DESCRIPTION:Au cœur des Vosges et au pied des pistes du domaine nordique de La Bresse-Lispach. \n50 à 100 km (liaison vers les domaines de Gérardmer et Xonrupt) de pistes de ski de fond\, alternatif et skating.\nRaquettes\, ski de rando et ski alpin sont également possibles.\n10 personnes maximum. \nLogement : Auberge des skieurs à la sortire de La Bresse  arrivée le vendredi pour le diner\n chambres de 2 ou 4.\ndemi-pension +-90€ / personne. \n  \nInscription: 15 décembre au plus tard \nCatherine   \ncatherine.kessels@gmail.com
URL:https://nm.cabnamlux.be/activite/du-24-soir-au-26-janvier-skating-au-lispach-par-catherine-kessels/
END:VEVENT
END:VCALENDAR