BEGIN:VCALENDAR
VERSION:2.0
PRODID:-//Neige et Montagne - ECPv6.14.2//NONSGML v1.0//EN
CALSCALE:GREGORIAN
METHOD:PUBLISH
X-ORIGINAL-URL:https://nm.cabnamlux.be
X-WR-CALDESC:Events for Neige et Montagne
REFRESH-INTERVAL;VALUE=DURATION:PT1H
X-Robots-Tag:noindex
X-PUBLISHED-TTL:PT1H
BEGIN:VTIMEZONE
TZID:Europe/Brussels
BEGIN:DAYLIGHT
TZOFFSETFROM:+0100
TZOFFSETTO:+0200
TZNAME:CEST
DTSTART:20250330T010000
END:DAYLIGHT
BEGIN:STANDARD
TZOFFSETFROM:+0200
TZOFFSETTO:+0100
TZNAME:CET
DTSTART:20251026T010000
END:STANDARD
END:VTIMEZONE
BEGIN:VEVENT
DTSTART;TZID=Europe/Brussels:20251130T120000
DTEND;TZID=Europe/Brussels:20251130T170000
DTSTAMP:20260425T010936
CREATED:20250910T071015Z
LAST-MODIFIED:20251002T080346Z
UID:3216-1764504000-1764522000@nm.cabnamlux.be
SUMMARY:Chokier 2025
DESCRIPTION:Notre rendez-vous habituel aura lieu cette le dimanche 30 novembre à la carrière de Chokier à partir de 12h00. \nAu programme :  \n– pain saucisse ( 5€/ personne)  sur inscription préalable et commande.  Chacun amène ses boissons \n– rappel des consignes générales de sécurité \n– gestion des groupes en cas de problème. \n– encordement \n– mouflage sur corps mort \n– utilisation des DVA (prêt possible sur réservation) \nFin vers 16 heures 30 \nLe programme définitif peut être adapté en fonction des intervenants et souhaits des participants. \nMarc et l’equipe de Chokier
URL:https://nm.cabnamlux.be/activite/chokier-2025/
LOCATION:Chokier\, Rue Houlbouse\, Liege\, 4400\, Belgium
END:VEVENT
END:VCALENDAR