BEGIN:VCALENDAR
VERSION:2.0
PRODID:-//Neige et Montagne - ECPv6.14.2//NONSGML v1.0//EN
CALSCALE:GREGORIAN
METHOD:PUBLISH
X-ORIGINAL-URL:https://nm.cabnamlux.be
X-WR-CALDESC:Events for Neige et Montagne
REFRESH-INTERVAL;VALUE=DURATION:PT1H
X-Robots-Tag:noindex
X-PUBLISHED-TTL:PT1H
BEGIN:VTIMEZONE
TZID:Europe/Brussels
BEGIN:DAYLIGHT
TZOFFSETFROM:+0100
TZOFFSETTO:+0200
TZNAME:CEST
DTSTART:20250330T010000
END:DAYLIGHT
BEGIN:STANDARD
TZOFFSETFROM:+0200
TZOFFSETTO:+0100
TZNAME:CET
DTSTART:20251026T010000
END:STANDARD
END:VTIMEZONE
BEGIN:VEVENT
DTSTART;VALUE=DATE:20251213
DTEND;VALUE=DATE:20251216
DTSTAMP:20260424T234621
CREATED:20250910T071315Z
LAST-MODIFIED:20251002T080723Z
UID:3219-1765591200-1765763999@nm.cabnamlux.be
SUMMARY:WE du 13 et 14 décembre : Vosges au chalet du SHM près du Hohneck par Michel Thomas
DESCRIPTION:Un WE convivial hivernal dans les Vosges pour commencer la saison. \nArrivée le vendredi à partir de 17h.  \nNous séjournons dans le chalet des Skieurs de la Haute Meurthe\, au pied du Hohneck. \nAu menu et selon la météo : randonnée\, ski de rando\, ski de piste\, ski de fond\, escalade\, raquette… \nMais aussi apéros\, fondues ou raclette et bonne humeur… \nNombre max de participants :18 \nRéservation par mail à Michel et versement de l’acompte de 50€ par participant pour confirmer :num de compte : Be 37 0010 9475 4528 \n  \nMichel \nmichel.thomas@calestienne.be
URL:https://nm.cabnamlux.be/activite/we-du-13-et-14-decembre-vosges-au-chalet-du-shm-pres-du-hohneck-par-michel-thomas/
LOCATION:Hohneck\, Vosges\, France
END:VEVENT
END:VCALENDAR