BEGIN:VCALENDAR
VERSION:2.0
PRODID:-//Neige et Montagne - ECPv6.14.2//NONSGML v1.0//EN
CALSCALE:GREGORIAN
METHOD:PUBLISH
X-WR-CALNAME:Neige et Montagne
X-ORIGINAL-URL:https://nm.cabnamlux.be
X-WR-CALDESC:Events for Neige et Montagne
REFRESH-INTERVAL;VALUE=DURATION:PT1H
X-Robots-Tag:noindex
X-PUBLISHED-TTL:PT1H
BEGIN:VTIMEZONE
TZID:Europe/Brussels
BEGIN:DAYLIGHT
TZOFFSETFROM:+0100
TZOFFSETTO:+0200
TZNAME:CEST
DTSTART:20260329T010000
END:DAYLIGHT
BEGIN:STANDARD
TZOFFSETFROM:+0200
TZOFFSETTO:+0100
TZNAME:CET
DTSTART:20261025T010000
END:STANDARD
END:VTIMEZONE
BEGIN:VEVENT
DTSTART;VALUE=DATE:20260129
DTEND;VALUE=DATE:20260203
DTSTAMP:20260424T204334
CREATED:20251010T094851Z
LAST-MODIFIED:20251010T094851Z
UID:3272-1769652000-1769997599@nm.cabnamlux.be
SUMMARY:Bourg d'Oisans et alentours du 28 janvier au 1 fevrier par Philippe Martin
DESCRIPTION:Programme\n\n1.1. Logement \nRendez-vous à Bourg D’Oisans le mercredi 28 janvier en soirée. \nLogement en gîte : 7 lits/ 3 chambres \n1.2. Activité \nActivité à confirmer (selon propositions du guide) \nSous réserve météo\, guide\, condition de neige \n1.2.1.   J1 \nExercice DVA \nProgression sur glacier \nDescente hors-piste \n1.2.2.   J2 \nExercice mouflage sur corps mort (si on accepte de trainer 2 heures alors qu’il y a de la super neige) \nProgressions sur glacier \nDescente hors-piste \n1.2.3.   J3 \nDeux descentes à La Grave \n*attention le J2 peut être intervertit avec le J3 \n\nRetour\n\nLe retour est prévu le dimanche 1er février (environ 10h de route) \n\nConditions\n\nSavoir progresser sur glacier \nSavoir faire un rappel sur corde \nÊtre à l’aise niveau ski S3 \n\nInscription\n\nMinimum 6 participants \nL’inscription n’est effective qu’après versement d’un acompte de 450€. \n  \nA bientôt Philippe Martin \n  \namideschevaux@gmail.com \n 
URL:https://nm.cabnamlux.be/activite/bourg-doisans-et-alentours-du-28-janvier-au-1-fevrier-par-philippe-martin/
END:VEVENT
BEGIN:VEVENT
DTSTART;VALUE=DATE:20260130
DTEND;VALUE=DATE:20260203
DTSTAMP:20260424T204334
CREATED:20250925T163038Z
LAST-MODIFIED:20251124T210621Z
UID:3226-1769738400-1769997599@nm.cabnamlux.be
SUMMARY:Skating et ski de fond dans les Vosges les 31 janvier 1 fevrier par Catherine Kessels
DESCRIPTION:Au cœur des Vosges et à proximité des pistes du domaine nordique de La Bresse-Lispach. \n50 à 100 km (avec liaisons vers les domaines de Gérardmer et Xonrupt) de pistes de ski de fond\, alternatif et skating. \nEn fonction des envies ou selon la météo : Skating\, ski de fond\, raquettes\, randonnée\, … \nLogement : Auberge des skieurs\, arrivée le vendredi  avant 19h30 pour le dîner\, chambres de 2 ou 3 en demi-pension\, +-85 € / jour / personne. http://www.auberge-des-skieurs.fr/ \n8 personnes maximum. \nInscription par mail à Catherine \nL’inscription devra être confirmée par un  versement de 75€ par personne sur le compte  BE43 0636 6498 9801 pour le 15 décembre au plus tard à titre d’acompte. \nCatherine – catherine.kessels@gmail.com
URL:https://nm.cabnamlux.be/activite/skating-vosges-2026-les-24-et-25-janvier-par-catherine-kessels-peut-etre-31-janvier-1-fevrier/
LOCATION:La Bresse /ispach\, France
END:VEVENT
BEGIN:VEVENT
DTSTART;VALUE=DATE:20260213
DTEND;VALUE=DATE:20260217
DTSTAMP:20260424T204334
CREATED:20251001T055508Z
LAST-MODIFIED:20251002T080619Z
UID:3242-1770948000-1771207199@nm.cabnamlux.be
SUMMARY:La Grave le retour par Luc Bontemps du 13 au 15 février
DESCRIPTION:Je propose une sortie à La Grave. \nDépart de Belgique le 12 et retour le 15. \nDonc comme vous avez tous compris\, on logerait le 12 soir\, le 13 et le 14 au gite le Rocher. \nLe premier jour\, on irait découvrir le domaine (une piste est tracée\, le reste à créer\, qu’ils disent) \nLe J2\, on demanderait à un guide de nous emmener dans les spots. \nLe J3\, on irait refaire un tour dans les coins pas encore explorés. \nÊtre à l’aise en ski hors-piste et ne pas craindre de faire de petits couloirs tranquilles. \nPeaux couteaux\, dva + matériel copain\, baudrier\, crampons… requis. \nLogement au Rocher\, que certains connaissent. Ambiance assurée. \n8 personnes (à confirmer quand j’aurai contacté le guide). \nFrais : logement\, remontées et une journée de guide à partager. \nOn annonce de la neige …. 😊 \n Acompte 50 € sur le compte BE88 0017 8879 0841 \nLuc \nLuc.bontemps@skynet.be   \n 
URL:https://nm.cabnamlux.be/activite/la-grave-le-retour-par-luc-bontemps-du-13-au-15-fevrier/
LOCATION:La Grave\, France
END:VEVENT
BEGIN:VEVENT
DTSTART;VALUE=DATE:20260213
DTEND;VALUE=DATE:20260218
DTSTAMP:20260424T204334
CREATED:20251117T173856Z
LAST-MODIFIED:20251215T100141Z
UID:3338-1770948000-1771293599@nm.cabnamlux.be
SUMMARY:Gramusset Aravis du 13 au 16 février
DESCRIPTION:Katrin vous propose 4 jours en étoile dans les Aravis . \nDe 800m à 1200m de D+/ jour  à prévoir  \nmax 8 personnes  \nContact : Katrin   \nKkatrin.be@gmail.com
URL:https://nm.cabnamlux.be/activite/gramusset-aravis-du-6-au-9-fevrier/
END:VEVENT
BEGIN:VEVENT
DTSTART;VALUE=DATE:20260222
DTEND;VALUE=DATE:20260227
DTSTAMP:20260424T204334
CREATED:20251109T101737Z
LAST-MODIFIED:20260202T090137Z
UID:3316-1771725600-1772071199@nm.cabnamlux.be
SUMMARY:Les grisons en mode CSV du 22 au 25 février par Roland Leners  sortie annulée
DESCRIPTION:La CSV (Cartographie Systémique des Vigilances\, https://www.csv-news.com/a-propos/) est une méthode de préparation et de gestion collective des sorties en ski de rando bien adaptée aux amateurs éclairés que nous sommes. Cette sortie s’articule autour d’un essai de mise en pratique de la CSV au sein de Neige & Montagne. Nous établirons notre camp de base à la Chamanna Jenatsch (https://www.chamannajenatsch.ch/) au cœur des Grisons. Le refuge est au carrefour d’un nombre impressionnant d’itinéraires de ski parmi nous choisirons en fonction des conditions de la montagne\, de la météo et de la nôtre. \nConditions de participation : Outre les conditions habituelles\, être intéressé.e par cette méthode (donc s’être documenté.e un minimum) et être prêt.e à consacrer le temps nécessaire en mont du séjour (réunion préparatoire par visio) et pendant le séjour : préparation (la veille)\, changements de vigilance (pendant la course) et debriefing (le soir). Avoir un outil de cartographie numérique (p.ex. Whiterisk\, Iphigénie\, …) car la cartographie est l’élément central de la méthode. Attention : Ce n’est pas une formation ou un stage. C’est une tentative de développer un faire-et-être-ensemble spécifique entre copains et copines\, dans le plus pur esprit de N&M (« ni guide\, ni nounou »). \nDépart en Belgique le samedi (21/2) et retour en Belgique dans la nuit de mercredi (25/2). 3 à 4 jours de ski. Sortie ouverte à 4 – 6 personnes\, à l’aise sur les skis. \nRenseignements et inscriptions : Roland (0497 489866). \nrl@rolandleners.com
URL:https://nm.cabnamlux.be/activite/les-grisons-par-roland-leners/
ORGANIZER;CN="Roland Leners":MAILTO:rl@rolandleners.com
END:VEVENT
BEGIN:VEVENT
DTSTART;VALUE=DATE:20260225
DTEND;VALUE=DATE:20260303
DTSTAMP:20260424T204334
CREATED:20251001T060212Z
LAST-MODIFIED:20251002T080951Z
UID:3247-1771984800-1772416799@nm.cabnamlux.be
SUMMARY:Beaufortain
DESCRIPTION:4 Journées de randonnée à ski dans le Beaufortin par les quinqua en forme. \nLes autres tranches sont admises.    \n Ce sera un groupe sportif homogène côté potentiel. \nProgramme en ligne ou étoile suivant les conditions. \n Open pour l’aventure… \n  \nRenseignement : Cédric Ledent  \ncedricledent@gmail.com
URL:https://nm.cabnamlux.be/activite/beaufortain/
END:VEVENT
END:VCALENDAR